Workbook

Sheet 报价汇总-.NET方案
B1: AI-DOP数字化运营平台开发报价清单（.NET方案）
A2: 负责 | B2: 项目工时明细 | E2: 预估人天 | F2: 人天单价（税前） | G2: 费用合计 | H2: 核心产出物 | I2: 备注 | J2: 复用比例
A3: OT | B3: 项目准备及业务蓝图设计 | C3: 单项小计 | E3: 80 | F3: 1800 | G3: =E3*F3 -> 144000 | H3: 《业务需求说明书》
A4: IT | B4: 技术方案设计 | C4: 单项小计 | E4: ='报价明细-.NET方案'!E20 -> 25 | F4: 1200 | G4: =E4*F4 -> 30000 | H4: 《概要设计说明书》、《技术规范书》、
A5: IT | B5: 功能开发和业务实现 | C5: 运营建模 | D5: 前端： | E5: ='报价明细-.NET方案'!E23 -> 10 | F5: 1200 | G5: =E5*F5 -> 12000 | H5: 源代码、《单元测试报告》、《接口设计说明书》、《集成测试报告》 | I5: 仅业务逻辑可参考，但开发还是全新开发 | J5: 65%
D6: 后端：
D7: 数据库
A8: IT | C8: 产销协同 | E8: ='报价明细-.NET方案'!E28 -> 7 | F8: 1200 | G8: =E8*F8 -> 8400 | I8: 仅业务逻辑可参考，但开发还是全新开发 | J8: 55%
A9: IT | C9: 制造协同 | E9: 7 | F9: 1200 | G9: =E9*F9 -> 8400 | I9: 仅业务逻辑可参考，但开发还是全新开发 | J9: 55%
A10: IT | C10: 供应协同 | E10: ='报价明细-.NET方案'!E38 -> 8 | F10: 1200 | G10: =E10*F10 -> 9600 | I10: 仅业务逻辑可参考，但开发还是全新开发 | J10: 55%
A11: IT | C11: 采购执行 | E11: ='报价明细-.NET方案'!E42 -> 6 | F11: 1200 | G11: =E11*F11 -> 7200 | I11: 仅业务逻辑可参考，但开发还是全新开发 | J11: 50%
A12: IT | C12: 物料仓储和内物流 | E12: ='报价明细-.NET方案'!E48 -> 5 | F12: 1200 | G12: =E12*F12 -> 6000 | J12: 45%
A13: IT | C13: 生产执行 | E13: ='报价明细-.NET方案'!E52 -> 5 | F13: 1200 | G13: =E13*F13 -> 6000 | J13: 45%
A14: IT | C14: 成品仓储和外物流 | E14: ='报价明细-.NET方案'!E56 -> 3 | F14: 1200 | G14: =E14*F14 -> 3600 | J14: 45%
A15: IT | C15: 全流程即时异常监控 | E15: 13 | F15: 1200 | G15: =E15*F15 -> 15600 | J15: 35%
A16: IT | C16: 九宫格智慧运营看板 | E16: ='报价明细-.NET方案'!E70 -> 12.5 | F16: 1200 | G16: =E16*F16 -> 15000 | J16: 40%
A17: IT | C17: 运营问题诊断 | E17: ='报价明细-.NET方案'!E73 -> 10 | F17: 1200 | G17: =E17*F17 -> 12000 | J17: 0%
A18: IT | C18: 运营问题改善闭环 | E18: ='报价明细-.NET方案'!E76 -> 10 | F18: 1200 | G18: =E18*F18 -> 12000 | J18: 0%
A19: IT | C19: ChatBI智能报表 | E19: ='报价明细-.NET方案'!E79 -> 10 | F19: 1200 | G19: =E19*F19 -> 12000 | J19: 0%
A20: IT | C20: APP端（仅Android） | E20: ='报价明细-.NET方案'!F81 -> 30 | F20: 1200 | G20: =E20*F20 -> 36000 | J20: 0%
A21: IT | C21: 系统模块集成 | E21: ='报价明细-.NET方案'!F88 -> 27 | F21: 1200 | G21: =E21*F21 -> 32400 | J21: 0%
A22: IT | B22: 数据库迁移 （SQL Server转MySQL） | C22: 数据库模型迁移 | E22: ='报价明细-.NET方案'!E89 -> 5 | F22: 1200 | G22: =E22*F22 -> 6000 | J22: 50%
A23: IT | C23: 存储过程重构 | E23: ='报价明细-.NET方案'!E90 -> 5 | F23: 1200 | G23: =E23*F23 -> 6000 | J23: 50%
A24: IT | C24: 程序调用迁移 | E24: ='报价明细-.NET方案'!E91 -> 5 | F24: 1200 | G24: =E24*F24 -> 6000 | J24: 50%
A25: OT | B25: 业务逻辑UAT测试 | C25: 业务逻辑UAT测试 | E25: 85 | F25: 1200 | G25: =E25*F25 -> 102000 | H25: 《UAT报告》、《操作手册》 | J25: 0%
A26: IT | B26: 系统部署和上线 | C26: 上线数据准备 | E26: ='报价明细-.NET方案'!F102 -> 23 | F26: 1200 | G26: =E26*F26 -> 27600 | J26: 0%
A27: IT | C27: 上线及运行支持 | E27: ='报价明细-.NET方案'!F105 -> 10 | F27: 1200 | G27: =E27*F27 -> 12000 | H27: 《验收报告》、《运维手册》 | J27: 0%
A28: IT | B28: 项目管理 | E28: ='报价明细-.NET方案'!E106 -> 10 | F28: 1500 | G28: =E28*F28 -> 15000 | H28: 《项目管理计划》、周度会议纪要、项目总结 | J28: 0%
B29: 总工时(人天) | E29: =SUM(E3:E28) -> 411.5 | G29: =SUM(G3:G28) -> 544800
B31: 费用占比分析
B32: 工作内容分项 | C32: 负责职能 | D32: 人天 | E32: 费用 | F32: 费用占比
B33: 项目准备及业务蓝图设计 | C33: OT | D33: 80 | E33: 144000 | F33: =E33/E40 -> 0.26431718
B34: 技术方案设计 | C34: IT | D34: 25 | E34: 30000 | F34: =E34/E40 -> 0.055066079
B35: 功能开发和业务实现 | C35: IT | D35: 163.5 | E35: 196200 | F35: =E35/E40 -> 0.36013216
B36: 数据库迁移 （SQL Server转MySQL） | C36: IT | D36: 15 | E36: 18000 | F36: =E36/E40 -> 0.033039648
B37: 业务逻辑UAT测试 | C37: OT | D37: 85 | E37: 102000 | F37: =E37/E40 -> 0.18722467 | J37: 0%
B38: 系统部署和上线 | C38: IT+OT | D38: 33 | E38: 39600 | F38: =E38/E40 -> 0.072687225 | J38: 0%
B39: 项目管理 | C39: IT+OT | D39: 10 | E39: 15000 | F39: =E39/E40 -> 0.02753304 | J39: 0%
B40: 小结 | D40: =SUM(D33:D39) -> 411.5 | E40: =SUM(E33:E39) -> 544800

Sheet 报价明细-.NET方案
A1: AI-DOP数字化运营平台开发工时清单（.NET方案）
A2: 项目工时明细 | D2: 开发人数 | E2: 开发天数 | F2: 预估人天 | G2: 备注
A3: 项目准备及业务蓝图设计 | B3: 产销协同蓝图设计 | D3: 1 | E3: 11 | F3: 11
B4: 制造协同蓝图设计 | D4: 1 | E4: 11 | F4: 11
B5: 供应协同蓝图设计 | D5: 1 | E5: 11 | F5: =D5*E5 -> 11
B6: 采购执行蓝图设计 | D6: 1 | E6: 5 | F6: =D6*E6 -> 5
B7: 物料仓储和内物流蓝图设计 | D7: 1 | E7: 4 | F7: =D7*E7 -> 4
B8: 生产执行蓝图设计 | D8: 1 | E8: 4 | F8: =D8*E8 -> 4
B9: 成品仓储和外物流蓝图设计 | D9: 1 | E9: 4 | F9: =D9*E9 -> 4
B10: 全流程即时异常监控蓝图设计 | D10: 3 | E10: 5 | F10: =D10*E10 -> 15
B11: 全流程绩效测量和改善蓝图设计 | D11: 3 | E11: 5 | F11: =D11*E11 -> 15
B12: 单项小计 | F12: =SUM(F3:F11) -> 80
A13: 技术方案设计 | B13: 系统架构 | D13: 1 | E13: 5 | F13: 5
B14: 数据库设计 | D14: 1 | E14: 4 | F14: 4
B15: 算法设计 | D15: 1 | E15: 5 | F15: =D15*E15 -> 5
B16: 功能设计 | D16: 1 | E16: 3 | F16: =D16*E16 -> 3
B17: 安全设计 | D17: 1 | E17: 3 | F17: =D17*E17 -> 3
B18: 接口设计 | D18: 1 | E18: 3 | F18: =D18*E18 -> 3
B19: 设计文档 | D19: 1 | E19: 2 | F19: =D19*E19 -> 2
B20: 单项小计 | E20: =SUM(E13:E19) -> 25 | F20: =SUM(F13:F19) -> 25
A21: 功能开发和业务实现 | B21: 运营建模 | C21: 数据建模 | D21: 1 | E21: 5 | F21: =D21*E21 -> 5
C22: 业务建模 | D22: 1 | E22: 5 | F22: =D22*E22 -> 5
C23: 单项小计 | D23: =SUM(D21:D22) -> 2 | E23: =SUM(E21:E22) -> 10 | F23: =SUM(F21:F22) -> 10
B24: 产销协同 | C24: 订单管理 | D24: 1 | E24: 2 | F24: =D24*E24 -> 2
C25: 工单管理 | D25: 1 | E25: 2 | F25: =D25*E25 -> 2
C26: 计划管理 | D26: 1 | E26: 2 | F26: =D26*E26 -> 2
C27: 产销协同看板 | D27: 1 | E27: 1 | F27: =D27*E27 -> 1
C28: 单项小计 | D28: =SUM(D24:D27) -> 4 | E28: =SUM(E24:E27) -> 7 | F28: =SUM(F24:F27) -> 7
B29: 制造协同 | C29: 制造需求管理 | D29: 1 | E29: 2 | F29: =D29*E29 -> 2
C30: 生产排程 | D30: 1 | E30: 2 | F30: 2
C31: 作业计划 | D31: 1 | E31: 2 | F31: =D31*E31 -> 2
C32: 制造协同看板 | D32: 1 | E32: 1 | F32: =D32*E32 -> 1
C33: 单项小计 | D33: =SUM(D29:D32) -> 4 | E33: =SUM(E29:E32) -> 7 | F33: =SUM(F29:F32) -> 7
B34: 供应协同 | C34: 物料计划 | D34: 1 | E34: 2 | F34: =D34*E34 -> 2
C35: 齐套管理 | D35: 1 | E35: 3 | F35: 3
C36: 采购管理 | D36: 1 | E36: 2 | F36: =D36*E36 -> 2
C37: 供应协同看板 | D37: 1 | E37: 1 | F37: =D37*E37 -> 1
C38: 单项小计 | D38: =SUM(D34:D37) -> 4 | E38: =SUM(E34:E37) -> 8 | F38: =SUM(F34:F37) -> 8
B39: 采购执行 | C39: 交货管理 | D39: 1 | E39: 2 | F39: =D39*E39 -> 2
C40: 在线协同 | D40: 1 | E40: 3 | F40: 3
...
